View In:
ArcGIS JavaScript
ArcGIS Online Map Viewer
ArcGIS Earth
Service Description: 1938outputtest
Name: 1938outputtest
Description:
Single Fused Map Cache: false
Extent:
XMin: 1891197.455034995
YMin: 564298.600719999
XMax: 2008606.487034995
YMax: 688501.4327199991
Spatial Reference: 4326
(4326)
LatestVCSWkid(0)
Initial Extent:
XMin: 1891197.455034995
YMin: 564298.600719999
XMax: 2008606.487034995
YMax: 688501.4327199991
Spatial Reference: 4326
(4326)
LatestVCSWkid(0)
Full Extent:
XMin: 1891197.455034995
YMin: 564298.600719999
XMax: 2008606.487034995
YMax: 688501.4327199991
Spatial Reference: 4326
(4326)
LatestVCSWkid(0)
Pixel Size X: 4.0560000000000045
Pixel Size Y: 4.056000000000002
Band Count: 1
Pixel Type: U8
RasterFunction Infos: {"rasterFunctionInfos": [{
"name": "None",
"description": "",
"help": ""
}]}
Mensuration Capabilities: Basic
Inspection Capabilities:
Has Histograms: false
Has Colormap: false
Has Multi Dimensions : false
Rendering Rule:
Min Scale: 0
Max Scale: 0
Copyright Text:
Service Data Type: esriImageServiceDataTypeGeneric
Min Values: 0
Max Values: 255
Mean Values: 92.24937937485
Standard Deviation Values: 75.501146572005
Object ID Field:
Fields:
None
Default Mosaic Method: Center
Allowed Mosaic Methods:
SortField:
SortValue: null
Mosaic Operator: First
Default Compression Quality: 75
Default Resampling Method: Bilinear
Max Record Count: null
Max Image Height: 4100
Max Image Width: 15000
Max Download Image Count: null
Max Mosaic Image Count: null
Allow Raster Function: true
Allow Copy: true
Allow Analysis: true
Allow Compute TiePoints: false
Supports Statistics: false
Supports Advanced Queries: false
Use StandardizedQueries: true
Raster Type Infos:
Name: Raster Dataset
Description: Supports all ArcGIS Raster Datasets
Help:
Has Raster Attribute Table: false
Edit Fields Info: null
Ownership Based AccessControl For Rasters: null
Child Resources:
Info
Statistics
Key Properties
Legend
Raster Function Infos
Supported Operations:
Export Image
Identify
Measure
Compute Histograms
Compute Statistics Histograms
Get Samples
Compute Class Statistics
Query Boundary
Compute Pixel Location
Compute Angles
Validate
Project